BEGIN:VCALENDAR
VERSION:2.0
PRODID:-//eventon.com NONSGML v1.0//EN
CALSCALE:GREGORIAN
METHOD:PUBLISH
BEGIN:VEVENT
UID:69e5e9b666f9f
DTSTAMP:20260420T085414Z
DTSTART:20250405T030000Z
DTEND:20250405T050000Z
LOCATION:Pagliacci&#039;s 1011 Broad Street
SUMMARY:Beezwild
DESCRIPTION:Beezwild: A Fusion of Funk\,  Soul\,  and Jazz Beezwild is a po
 werhouse trio from Victoria\,  British Columbia\,  delivering an exhilarati
 ng blend of funk\,  soul\,  and jazz. Featuring the exceptional talents of 
 Brenda Morie\,  Patty Castle\,  and Paul Wainwright\,  Beezwild crafts vibr
 ant\,  soulful performances that captivate audiences and ignite dance floor
 s.[..]\nhttps://www.pagliaccis.ca/events/beezwild/
URL:https://www.pagliaccis.ca/events/beezwild/
END:VEVENT
END:VCALENDAR