BEGIN:VCALENDAR
VERSION:2.0
PRODID:-//eventon.com NONSGML v1.0//EN
CALSCALE:GREGORIAN
METHOD:PUBLISH
BEGIN:VEVENT
UID:69e601732b712
DTSTAMP:20260420T103531Z
DTSTART:20260530T040000Z
DTEND:20260530T060000Z
LOCATION:
SUMMARY:Tyler James Johnson Trio
DESCRIPTION:-Tyler Johnson is a Guitarist and Songwriter based in Victoria\
 ,  British Columbia. His passion for music was ignited when he discovered h
 is father’s extensive record collection at the age of 12\,  leading him t
 o pick up the guitar. Tyler's first experience in the music scene was in 20
 12 in Edmonton\, [..]\nhttps://www.pagliaccis.ca/events/tyler-james-johnson
 -trio/
URL:https://www.pagliaccis.ca/events/tyler-james-johnson-trio/
END:VEVENT
END:VCALENDAR