BEGIN:VCALENDAR
VERSION:2.0
PRODID:-//eventon.com NONSGML v1.0//EN
CALSCALE:GREGORIAN
METHOD:PUBLISH
BEGIN:VEVENT
UID:69e5ea9f82516
DTSTAMP:20260420T085807Z
DTSTART:20250511T170000Z
DTEND:20250511T220000Z
LOCATION:
SUMMARY:Jazz Brunch with the Graham Villette Trio
DESCRIPTION:Bringing some mid Island groove to Pagliaccis\,  Graham is one 
 of the best drummers on the coast. He can swing with brushes\,  and keep th
 e atmosphere as perky as the coffee. Joined by Tony Genge on piano and Scot
 t White on double bass. &nbsp; &nbsp; &nbsp;\nhttps://www.pagliaccis.ca/eve
 nts/graham-villette-trio/
URL:https://www.pagliaccis.ca/events/graham-villette-trio/
END:VEVENT
END:VCALENDAR