BEGIN:VCALENDAR
VERSION:2.0
PRODID:-//eventon.com NONSGML v1.0//EN
CALSCALE:GREGORIAN
METHOD:PUBLISH
BEGIN:VEVENT
UID:69e5e9f10a677
DTSTAMP:20260420T085513Z
DTSTART:20260705T043000Z
DTEND:20260705T060000Z
LOCATION:
SUMMARY:the Owen Chow Trio
DESCRIPTION:Back from New York City for a few weeks\,  rising star Owen Cho
 w is wowing the Canadian jazz world\,  we are delighted to be able to prese
 nt him here. With his trio.\nhttps://www.pagliaccis.ca/events/the-owen-chow
 -trio-3/
URL:https://www.pagliaccis.ca/events/the-owen-chow-trio-3/
END:VEVENT
END:VCALENDAR