BEGIN:VCALENDAR
VERSION:2.0
PRODID:-//eventon.com NONSGML v1.0//EN
CALSCALE:GREGORIAN
METHOD:PUBLISH
BEGIN:VEVENT
UID:69e5ec5eded02
DTSTAMP:20260420T090534Z
DTSTART:20260816T043000Z
DTEND:20260816T060000Z
LOCATION:
SUMMARY:the Roy Styffe Trio
DESCRIPTION:A finer sax player you will not find\,  Roy oozes melody and sw
 ing. With his trio &nbsp;\nhttps://www.pagliaccis.ca/events/the-roy-styffe-
 trio-2/
URL:https://www.pagliaccis.ca/events/the-roy-styffe-trio-2/
END:VEVENT
END:VCALENDAR