BEGIN:VCALENDAR
VERSION:2.0
PRODID:-//eventon.com NONSGML v1.0//EN
CALSCALE:GREGORIAN
METHOD:PUBLISH
BEGIN:VEVENT
UID:69e5eb2e06a5a
DTSTAMP:20260420T090030Z
DTSTART:20260425T040000Z
DTEND:20260425T060000Z
LOCATION:
SUMMARY:the Kai Aris Trio
DESCRIPTION:Join the Kai Aris Trio for an evening of improved funk\,  fusio
 n\,  and more. Featuring Mateo Sehn on drums\,  Alex Gwillim on guitar \,  
 and Kai Aris on bass. &nbsp;\nhttps://www.pagliaccis.ca/events/the-kai-aris
 -trio/
URL:https://www.pagliaccis.ca/events/the-kai-aris-trio/
END:VEVENT
END:VCALENDAR